BEGIN:VCALENDAR
VERSION:2.0
PRODID:SchoolNow
CALSCALE:GREGORIAN
BEGIN:VEVENT
UID:8d5b2510-d9e9-11ef-91cb-0a58a9feac02
DTSTAMP:20250124T002419Z
SUMMARY:Track & Field (Boys V) @ GLENBARD WEST HIGH SCHOOL
LOCATION:GLENBARD WEST HIGH SCHOOL
URL;VALUE=URI:https://www.tricreek.k12.in.us/lhs/calendar/7360627/track-fie
 ld-boys-v-glenbard-west-high-school
DTSTART:20250503T150000Z
DTEND:20250503T170000Z
END:VEVENT
END:VCALENDAR
