BEGIN:VCALENDAR
VERSION:2.0
PRODID:SchoolNow
CALSCALE:GREGORIAN
BEGIN:VEVENT
UID:8d5b25e2-d9e9-11ef-be0a-0a58a9feac02
DTSTAMP:20250124T002419Z
SUMMARY:Track & Field (Boys V) @ Hoosier State Relays (qualifiers only)
LOCATION:Indiana State Fairgrounds
URL;VALUE=URI:https://www.tricreek.k12.in.us/lhs/calendar/7360628/track-fie
 ld-boys-v-hoosier-state-relays-qualifiers-only
DTSTART:20250329T120038Z
DTEND:20250329T140038Z
END:VEVENT
END:VCALENDAR
