BEGIN:VCALENDAR
VERSION:2.0
PRODID:SchoolNow
CALSCALE:GREGORIAN
BEGIN:VEVENT
UID:8d5b26b4-d9e9-11ef-8e62-0a58a9feac02
DTSTAMP:20250124T002419Z
SUMMARY:Track & Field (Boys V) @ NCC Meet
LOCATION:Hobart High School
URL;VALUE=URI:https://www.tricreek.k12.in.us/lhs/calendar/7360629/track-fie
 ld-boys-v-ncc-meet
DTSTART:20250513T220000Z
DTEND:20250514T000000Z
END:VEVENT
END:VCALENDAR
