BEGIN:VCALENDAR
VERSION:2.0
PRODID:SchoolNow
CALSCALE:GREGORIAN
BEGIN:VEVENT
UID:8d5b2786-d9e9-11ef-93b5-0a58a9feac02
DTSTAMP:20250124T002419Z
SUMMARY:Track & Field (Boys V) @ Dearduff Classic
LOCATION:LaPorte High School
URL;VALUE=URI:https://www.tricreek.k12.in.us/lhs/calendar/7360630/track-fie
 ld-boys-v-dearduff-classic
DTSTART:20250426T150000Z
DTEND:20250426T170000Z
END:VEVENT
END:VCALENDAR
