BEGIN:VCALENDAR
VERSION:2.0
PRODID:SchoolNow
CALSCALE:GREGORIAN
BEGIN:VEVENT
UID:8d5b2858-d9e9-11ef-bc78-0a58a9feac02
DTSTAMP:20250124T002419Z
SUMMARY:CANCELED - Track & Field (Boys V) @ Crown Point/Lowell/Lake Central
  Trimeet
LOCATION:Lake Central High School
URL;VALUE=URI:https://www.tricreek.k12.in.us/lhs/calendar/7360631/canceled-
 track-field-boys-v-crown-point-lowell-lake-central-trimeet
DTSTART:20250320T220000Z
DTEND:20250321T000000Z
END:VEVENT
END:VCALENDAR
