BEGIN:VCALENDAR
VERSION:2.0
PRODID:SchoolNow
CALSCALE:GREGORIAN
BEGIN:VEVENT
UID:8d5b292a-d9e9-11ef-908c-0a58a9feac02
DTSTAMP:20250124T002419Z
SUMMARY:Track & Field (Boys V) - Hanover Central Jr-Sr High School
LOCATION:Lowell Senior High School
URL;VALUE=URI:https://www.tricreek.k12.in.us/lhs/calendar/7360632/track-fie
 ld-boys-v-hanover-central-jr-sr-high-school
DTSTART:20250506T214500Z
DTEND:20250506T234500Z
END:VEVENT
END:VCALENDAR
