BEGIN:VCALENDAR
VERSION:2.0
PRODID:SchoolNow
CALSCALE:GREGORIAN
BEGIN:VEVENT
UID:8d5b29fc-d9e9-11ef-9382-0a58a9feac02
DTSTAMP:20250124T002419Z
SUMMARY:Track & Field (Boys V) @ IHSAA Sectional
LOCATION:Crown Point High School
URL;VALUE=URI:https://www.tricreek.k12.in.us/lhs/calendar/7360633/track-fie
 ld-boys-v-ihsaa-sectional
DTSTART:20250522T220000Z
DTEND:20250523T000000Z
END:VEVENT
END:VCALENDAR
