BEGIN:VCALENDAR
VERSION:2.0
PRODID:SchoolNow
CALSCALE:GREGORIAN
BEGIN:VEVENT
UID:8d5b2b96-d9e9-11ef-81fd-0a58a9feac02
DTSTAMP:20250124T002419Z
SUMMARY:Track & Field (Boys V) - AND/HIGH/LOW
LOCATION:Lowell Senior High School
URL;VALUE=URI:https://www.tricreek.k12.in.us/lhs/calendar/7360635/track-fie
 ld-boys-v-and-high-low
DTSTART:20250422T230000Z
DTEND:20250423T010000Z
END:VEVENT
END:VCALENDAR
