BEGIN:VCALENDAR
VERSION:2.0
PRODID:SchoolNow
CALSCALE:GREGORIAN
BEGIN:VEVENT
UID:8d5b2e02-d9e9-11ef-91c3-0a58a9feac02
DTSTAMP:20250124T002419Z
SUMMARY:Basketball (Girls JV) @ Munster High School
LOCATION:Munster High School
URL;VALUE=URI:https://www.tricreek.k12.in.us/lhs/calendar/7360638/basketbal
 l-girls-jv-munster-high-school
DTSTART:20241213T233000Z
DTEND:20241214T003000Z
END:VEVENT
END:VCALENDAR
