BEGIN:VCALENDAR
VERSION:2.0
PRODID:SchoolNow
CALSCALE:GREGORIAN
BEGIN:VEVENT
UID:8d5b2eca-d9e9-11ef-a4f2-0a58a9feac02
DTSTAMP:20250124T002419Z
SUMMARY:Basketball (Girls JV) @ Hanover Central Jr-Sr High School
LOCATION:Hanover Central Jr-Sr High School
URL;VALUE=URI:https://www.tricreek.k12.in.us/lhs/calendar/7360639/basketbal
 l-girls-jv-hanover-central-jr-sr-high-school
DTSTART:20251125T233000Z
DTEND:20251126T013000Z
END:VEVENT
END:VCALENDAR
