BEGIN:VCALENDAR
VERSION:2.0
PRODID:SchoolNow
CALSCALE:GREGORIAN
BEGIN:VEVENT
UID:8d5b2f9c-d9e9-11ef-912b-0a58a9feac02
DTSTAMP:20250124T002419Z
SUMMARY:Basketball (Girls JV) @ Crown Point High School
LOCATION:Crown Point High School
URL;VALUE=URI:https://www.tricreek.k12.in.us/lhs/calendar/7360640/basketbal
 l-girls-jv-crown-point-high-school
DTSTART:20241203T233000Z
DTEND:20241204T013000Z
END:VEVENT
END:VCALENDAR
