BEGIN:VCALENDAR
VERSION:2.0
PRODID:SchoolNow
CALSCALE:GREGORIAN
BEGIN:VEVENT
UID:8d5b30be-d9e9-11ef-a420-0a58a9feac02
DTSTAMP:20250124T002419Z
SUMMARY:Basketball (Girls JV) @ Valparaiso JV Holiday Tournament (game 2)
LOCATION:Valparaiso High School
URL;VALUE=URI:https://www.tricreek.k12.in.us/lhs/calendar/7360641/basketbal
 l-girls-jv-valparaiso-jv-holiday-tournament-game-2
DTSTART:20241223T193036Z
DTEND:20241223T213036Z
END:VEVENT
END:VCALENDAR
