BEGIN:VCALENDAR
VERSION:2.0
PRODID:SchoolNow
CALSCALE:GREGORIAN
BEGIN:VEVENT
UID:8d5b3262-d9e9-11ef-b728-0a58a9feac02
DTSTAMP:20250124T002419Z
SUMMARY:Basketball (Girls JV) - Hebron High School
LOCATION:Lowell Senior High School
URL;VALUE=URI:https://www.tricreek.k12.in.us/lhs/calendar/7360643/basketbal
 l-girls-jv-hebron-high-school
DTSTART:20241119T233000Z
DTEND:20241120T013000Z
END:VEVENT
END:VCALENDAR
