BEGIN:VCALENDAR
VERSION:2.0
PRODID:SchoolNow
CALSCALE:GREGORIAN
BEGIN:VEVENT
UID:8d5b35aa-d9e9-11ef-a353-0a58a9feac02
DTSTAMP:20250124T002419Z
SUMMARY:Basketball (Girls JV) - Crown Point High School
LOCATION:Lowell Senior High School
URL;VALUE=URI:https://www.tricreek.k12.in.us/lhs/calendar/7360644/basketbal
 l-girls-jv-crown-point-high-school
DTSTART:20251202T233000Z
DTEND:20251203T013000Z
END:VEVENT
END:VCALENDAR
