BEGIN:VCALENDAR
VERSION:2.0
PRODID:SchoolNow
CALSCALE:GREGORIAN
BEGIN:VEVENT
UID:8d5b36e0-d9e9-11ef-935c-0a58a9feac02
DTSTAMP:20250124T002419Z
SUMMARY:Basketball (Girls JV) @ LaPorte High School
LOCATION:LaPorte High School
URL;VALUE=URI:https://www.tricreek.k12.in.us/lhs/calendar/7360645/basketbal
 l-girls-jv-laporte-high-school
DTSTART:20250125T190055Z
DTEND:20250125T210055Z
END:VEVENT
END:VCALENDAR
