BEGIN:VCALENDAR
VERSION:2.0
PRODID:SchoolNow
CALSCALE:GREGORIAN
BEGIN:VEVENT
UID:8d5b37d0-d9e9-11ef-b926-0a58a9feac02
DTSTAMP:20250124T002419Z
SUMMARY:Basketball (Girls JV) @ Hobart High School
LOCATION:Hobart High School
URL;VALUE=URI:https://www.tricreek.k12.in.us/lhs/calendar/7360646/basketbal
 l-girls-jv-hobart-high-school
DTSTART:20250116T233000Z
DTEND:20250117T013000Z
END:VEVENT
END:VCALENDAR
