BEGIN:VCALENDAR
VERSION:2.0
PRODID:SchoolNow
CALSCALE:GREGORIAN
BEGIN:VEVENT
UID:8d5b38b6-d9e9-11ef-b752-0a58a9feac02
DTSTAMP:20250124T002419Z
SUMMARY:Basketball (Girls JV) - North Newton Jr-Sr High School
LOCATION:Lowell Senior High School
URL;VALUE=URI:https://www.tricreek.k12.in.us/lhs/calendar/7360647/basketbal
 l-girls-jv-north-newton-jr-sr-high-school
DTSTART:20241109T170000Z
DTEND:20241109T190000Z
END:VEVENT
END:VCALENDAR
