BEGIN:VCALENDAR
VERSION:2.0
PRODID:SchoolNow
CALSCALE:GREGORIAN
BEGIN:VEVENT
UID:8d5b399c-d9e9-11ef-89a4-0a58a9feac02
DTSTAMP:20250124T002419Z
SUMMARY:Basketball (Girls JV) @ East Chicago Central High School
LOCATION:East Chicago Central High School
URL;VALUE=URI:https://www.tricreek.k12.in.us/lhs/calendar/7360648/basketbal
 l-girls-jv-east-chicago-central-high-school
DTSTART:20251115T190000Z
DTEND:20251115T210000Z
END:VEVENT
END:VCALENDAR
