BEGIN:VCALENDAR
VERSION:2.0
PRODID:SchoolNow
CALSCALE:GREGORIAN
BEGIN:VEVENT
UID:8d5b3a78-d9e9-11ef-8016-0a58a9feac02
DTSTAMP:20250124T002419Z
SUMMARY:Basketball (Girls JV) - Munster High School
LOCATION:Lowell Senior High School
URL;VALUE=URI:https://www.tricreek.k12.in.us/lhs/calendar/7360649/basketbal
 l-girls-jv-munster-high-school
DTSTART:20251212T233000Z
DTEND:20251213T013000Z
END:VEVENT
END:VCALENDAR
