BEGIN:VCALENDAR
VERSION:2.0
PRODID:SchoolNow
CALSCALE:GREGORIAN
BEGIN:VEVENT
UID:8d5b3b54-d9e9-11ef-9215-0a58a9feac02
DTSTAMP:20250124T002419Z
SUMMARY:Basketball (Girls JV) @ Highland High School
LOCATION:Highland High School
URL;VALUE=URI:https://www.tricreek.k12.in.us/lhs/calendar/7360650/basketbal
 l-girls-jv-highland-high-school
DTSTART:20250107T233000Z
DTEND:20250108T013000Z
END:VEVENT
END:VCALENDAR
