BEGIN:VCALENDAR
VERSION:2.0
PRODID:SchoolNow
CALSCALE:GREGORIAN
BEGIN:VEVENT
UID:8d5b3c26-d9e9-11ef-80d1-0a58a9feac02
DTSTAMP:20250124T002419Z
SUMMARY:Basketball (Girls JV) @ Illiana Christian High School
LOCATION:Illiana Christian High School
URL;VALUE=URI:https://www.tricreek.k12.in.us/lhs/calendar/7360651/basketbal
 l-girls-jv-illiana-christian-high-school
DTSTART:20260120T233000Z
DTEND:20260121T013000Z
END:VEVENT
END:VCALENDAR
