BEGIN:VCALENDAR
VERSION:2.0
PRODID:SchoolNow
CALSCALE:GREGORIAN
BEGIN:VEVENT
UID:8d5b3dde-d9e9-11ef-bdc5-0a58a9feac02
DTSTAMP:20250124T002419Z
SUMMARY:CANCELED - Basketball (Girls JV) - Illiana Christian High School
LOCATION:Lowell Senior High School
URL;VALUE=URI:https://www.tricreek.k12.in.us/lhs/calendar/7360653/canceled-
 basketball-girls-jv-illiana-christian-high-school
DTSTART:20250121T233000Z
DTEND:20250122T013000Z
END:VEVENT
END:VCALENDAR
