BEGIN:VCALENDAR
VERSION:2.0
PRODID:SchoolNow
CALSCALE:GREGORIAN
BEGIN:VEVENT
UID:8d5b3ed8-d9e9-11ef-b3a4-0a58a9feac02
DTSTAMP:20250124T002419Z
SUMMARY:Basketball (Girls JV) @ Andrean High School
LOCATION:Andrean High School
URL;VALUE=URI:https://www.tricreek.k12.in.us/lhs/calendar/7360654/basketbal
 l-girls-jv-andrean-high-school
DTSTART:20260110T190000Z
DTEND:20260110T210000Z
END:VEVENT
END:VCALENDAR
