BEGIN:VCALENDAR
VERSION:2.0
PRODID:SchoolNow
CALSCALE:GREGORIAN
BEGIN:VEVENT
UID:8d5b3fb4-d9e9-11ef-a96f-0a58a9feac02
DTSTAMP:20250124T002419Z
SUMMARY:Basketball (Girls JV) - Highland High School
LOCATION:Lowell Senior High School
URL;VALUE=URI:https://www.tricreek.k12.in.us/lhs/calendar/7360655/basketbal
 l-girls-jv-highland-high-school
DTSTART:20260106T233000Z
DTEND:20260107T013000Z
END:VEVENT
END:VCALENDAR
