BEGIN:VCALENDAR
VERSION:2.0
PRODID:SchoolNow
CALSCALE:GREGORIAN
BEGIN:VEVENT
UID:8d5b4086-d9e9-11ef-975d-0a58a9feac02
DTSTAMP:20250124T002419Z
SUMMARY:Basketball (Girls JV) - Wheeler High School
LOCATION:Lowell Senior High School
URL;VALUE=URI:https://www.tricreek.k12.in.us/lhs/calendar/7360656/basketbal
 l-girls-jv-wheeler-high-school
DTSTART:20241105T233000Z
DTEND:20241106T013000Z
END:VEVENT
END:VCALENDAR
