BEGIN:VCALENDAR
VERSION:2.0
PRODID:SchoolNow
CALSCALE:GREGORIAN
BEGIN:VEVENT
UID:8d5b4162-d9e9-11ef-9af5-0a58a9feac02
DTSTAMP:20250124T002419Z
SUMMARY:Basketball (Girls JV) - Hobart High School
LOCATION:Lowell Senior High School
URL;VALUE=URI:https://www.tricreek.k12.in.us/lhs/calendar/7360657/basketbal
 l-girls-jv-hobart-high-school
DTSTART:20260115T233000Z
DTEND:20260116T013000Z
END:VEVENT
END:VCALENDAR
