BEGIN:VCALENDAR
VERSION:2.0
PRODID:SchoolNow
CALSCALE:GREGORIAN
BEGIN:VEVENT
UID:8d5b4234-d9e9-11ef-a463-0a58a9feac02
DTSTAMP:20250124T002419Z
SUMMARY:Basketball (Girls JV) @ Kankakee Valley High School
LOCATION:Kankakee Valley High School
URL;VALUE=URI:https://www.tricreek.k12.in.us/lhs/calendar/7360658/basketbal
 l-girls-jv-kankakee-valley-high-school
DTSTART:20251205T233000Z
DTEND:20251206T013000Z
END:VEVENT
END:VCALENDAR
