BEGIN:VCALENDAR
VERSION:2.0
PRODID:SchoolNow
CALSCALE:GREGORIAN
BEGIN:VEVENT
UID:8d5b43e2-d9e9-11ef-8f20-0a58a9feac02
DTSTAMP:20250124T002419Z
SUMMARY:Basketball (Girls JV) @ Wheeler High School
LOCATION:Wheeler High School
URL;VALUE=URI:https://www.tricreek.k12.in.us/lhs/calendar/7360660/basketbal
 l-girls-jv-wheeler-high-school
DTSTART:20251104T233000Z
DTEND:20251105T013000Z
END:VEVENT
END:VCALENDAR
