BEGIN:VCALENDAR
VERSION:2.0
PRODID:SchoolNow
CALSCALE:GREGORIAN
BEGIN:VEVENT
UID:8d5b4590-d9e9-11ef-b0b8-0a58a9feac02
DTSTAMP:20250124T002419Z
SUMMARY:Basketball (Girls JV) - East Chicago Central High School
LOCATION:Lowell Senior High School
URL;VALUE=URI:https://www.tricreek.k12.in.us/lhs/calendar/7360662/basketbal
 l-girls-jv-east-chicago-central-high-school
DTSTART:20241116T190000Z
DTEND:20241116T210000Z
END:VEVENT
END:VCALENDAR
