BEGIN:VCALENDAR
VERSION:2.0
PRODID:SchoolNow
CALSCALE:GREGORIAN
BEGIN:VEVENT
UID:8d5b4662-d9e9-11ef-9918-0a58a9feac02
DTSTAMP:20250124T002419Z
SUMMARY:Basketball (Girls JV) @ Hebron High School
LOCATION:Hebron
URL;VALUE=URI:https://www.tricreek.k12.in.us/lhs/calendar/7360663/basketbal
 l-girls-jv-hebron-high-school
DTSTART:20251118T233000Z
DTEND:20251119T013000Z
END:VEVENT
END:VCALENDAR
