BEGIN:VCALENDAR
VERSION:2.0
PRODID:SchoolNow
CALSCALE:GREGORIAN
BEGIN:VEVENT
UID:8d5b4734-d9e9-11ef-8d59-0a58a9feac02
DTSTAMP:20250124T002419Z
SUMMARY:Basketball (Girls JV) @ Kouts Middle/High School
LOCATION:Kouts Middle/High School
URL;VALUE=URI:https://www.tricreek.k12.in.us/lhs/calendar/7360664/basketbal
 l-girls-jv-kouts-middle-high-school
DTSTART:20241217T233000Z
DTEND:20241218T013000Z
END:VEVENT
END:VCALENDAR
