BEGIN:VCALENDAR
VERSION:2.0
PRODID:SchoolNow
CALSCALE:GREGORIAN
BEGIN:VEVENT
UID:8d5b4810-d9e9-11ef-a009-0a58a9feac02
DTSTAMP:20250124T002419Z
SUMMARY:Basketball (Girls JV) - River Forest Sr High School
LOCATION:Lowell Senior High School
URL;VALUE=URI:https://www.tricreek.k12.in.us/lhs/calendar/7360665/basketbal
 l-girls-jv-river-forest-sr-high-school
DTSTART:20251111T233053Z
DTEND:20251112T013053Z
END:VEVENT
END:VCALENDAR
