BEGIN:VCALENDAR
VERSION:2.0
PRODID:SchoolNow
CALSCALE:GREGORIAN
BEGIN:VEVENT
UID:8d5b48e2-d9e9-11ef-9c0b-0a58a9feac02
DTSTAMP:20250124T002419Z
SUMMARY:Basketball (Girls JV) @ Rensselaer Central High School
LOCATION:Rensselaer Central HS Gym
URL;VALUE=URI:https://www.tricreek.k12.in.us/lhs/calendar/7360666/basketbal
 l-girls-jv-rensselaer-central-high-school
DTSTART:20250130T233000Z
DTEND:20250131T013000Z
END:VEVENT
END:VCALENDAR
