BEGIN:VCALENDAR
VERSION:2.0
PRODID:SchoolNow
CALSCALE:GREGORIAN
BEGIN:VEVENT
UID:8d5b49b4-d9e9-11ef-a429-0a58a9feac02
DTSTAMP:20250124T002419Z
SUMMARY:Basketball (Girls JV) - Hanover Central Jr-Sr High School
LOCATION:Lowell Senior High School
URL;VALUE=URI:https://www.tricreek.k12.in.us/lhs/calendar/7360667/basketbal
 l-girls-jv-hanover-central-jr-sr-high-school
DTSTART:20241126T233000Z
DTEND:20241127T013000Z
END:VEVENT
END:VCALENDAR
