BEGIN:VCALENDAR
VERSION:2.0
PRODID:SchoolNow
CALSCALE:GREGORIAN
BEGIN:VEVENT
UID:8d5b4c34-d9e9-11ef-bbd6-0a58a9feac02
DTSTAMP:20250124T002419Z
SUMMARY:Basketball (Boys F) - Highland High School
LOCATION:Lowell Senior High School
URL;VALUE=URI:https://www.tricreek.k12.in.us/lhs/calendar/7360670/basketbal
 l-boys-f-highland-high-school
DTSTART:20251202T000000Z
DTEND:20251202T020000Z
END:VEVENT
END:VCALENDAR
