BEGIN:VCALENDAR
VERSION:2.0
PRODID:SchoolNow
CALSCALE:GREGORIAN
BEGIN:VEVENT
UID:8d5b4d06-d9e9-11ef-bed0-0a58a9feac02
DTSTAMP:20250124T002419Z
SUMMARY:Basketball (Boys F) @ North Newton Jr-Sr High School
LOCATION:North Newton Jr-Sr High School
URL;VALUE=URI:https://www.tricreek.k12.in.us/lhs/calendar/7360671/basketbal
 l-boys-f-north-newton-jr-sr-high-school
DTSTART:20250110T000000Z
DTEND:20250110T020000Z
END:VEVENT
END:VCALENDAR
