BEGIN:VCALENDAR
VERSION:2.0
PRODID:SchoolNow
CALSCALE:GREGORIAN
BEGIN:VEVENT
UID:8d5b4eaa-d9e9-11ef-bb8f-0a58a9feac02
DTSTAMP:20250124T002419Z
SUMMARY:Basketball (Boys F) - Lake Central High School
LOCATION:Lowell High School
URL;VALUE=URI:https://www.tricreek.k12.in.us/lhs/calendar/7360673/basketbal
 l-boys-f-lake-central-high-school
DTSTART:20250211T000000Z
DTEND:20250211T020000Z
END:VEVENT
END:VCALENDAR
