BEGIN:VCALENDAR
VERSION:2.0
PRODID:SchoolNow
CALSCALE:GREGORIAN
BEGIN:VEVENT
UID:8d5b4f86-d9e9-11ef-9dc5-0a58a9feac02
DTSTAMP:20250124T002419Z
SUMMARY:Basketball (Boys F) @ Hobart High School
LOCATION:Hobart High School
URL;VALUE=URI:https://www.tricreek.k12.in.us/lhs/calendar/7360674/basketbal
 l-boys-f-hobart-high-school
DTSTART:20250130T000000Z
DTEND:20250130T020000Z
END:VEVENT
END:VCALENDAR
