BEGIN:VCALENDAR
VERSION:2.0
PRODID:SchoolNow
CALSCALE:GREGORIAN
BEGIN:VEVENT
UID:8d5b512a-d9e9-11ef-937f-0a58a9feac02
DTSTAMP:20250124T002419Z
SUMMARY:CANCELED - Basketball (Boys F) - Andrean High School
LOCATION:Lowell Senior High School
URL;VALUE=URI:https://www.tricreek.k12.in.us/lhs/calendar/7360676/canceled-
 basketball-boys-f-andrean-high-school
DTSTART:20250121T000000Z
DTEND:20250121T020000Z
END:VEVENT
END:VCALENDAR
