BEGIN:VCALENDAR
VERSION:2.0
PRODID:SchoolNow
CALSCALE:GREGORIAN
BEGIN:VEVENT
UID:8d5b51fc-d9e9-11ef-81fc-0a58a9feac02
DTSTAMP:20250124T002419Z
SUMMARY:Basketball (Boys F) @ Andrean High School
LOCATION:Andrean High School
URL;VALUE=URI:https://www.tricreek.k12.in.us/lhs/calendar/7360677/basketbal
 l-boys-f-andrean-high-school
DTSTART:20260120T000000Z
DTEND:20260120T020000Z
END:VEVENT
END:VCALENDAR
