BEGIN:VCALENDAR
VERSION:2.0
PRODID:SchoolNow
CALSCALE:GREGORIAN
BEGIN:VEVENT
UID:8d5b52ce-d9e9-11ef-a322-0a58a9feac02
DTSTAMP:20250124T002419Z
SUMMARY:Basketball (Boys F) @ Portage High School
LOCATION:Portage High School
URL;VALUE=URI:https://www.tricreek.k12.in.us/lhs/calendar/7360678/basketbal
 l-boys-f-portage-high-school
DTSTART:20241219T000055Z
DTEND:20241219T020055Z
END:VEVENT
END:VCALENDAR
