BEGIN:VCALENDAR
VERSION:2.0
PRODID:SchoolNow
CALSCALE:GREGORIAN
BEGIN:VEVENT
UID:8d5b53aa-d9e9-11ef-892d-0a58a9feac02
DTSTAMP:20250124T002419Z
SUMMARY:Basketball (Boys F) @ Hammond Central High School
LOCATION:Hammond Central High School
URL;VALUE=URI:https://www.tricreek.k12.in.us/lhs/calendar/7360679/basketbal
 l-boys-f-hammond-central-high-school
DTSTART:20250117T000000Z
DTEND:20250117T010000Z
END:VEVENT
END:VCALENDAR
