BEGIN:VCALENDAR
VERSION:2.0
PRODID:SchoolNow
CALSCALE:GREGORIAN
BEGIN:VEVENT
UID:8d5b547c-d9e9-11ef-8640-0a58a9feac02
DTSTAMP:20250124T002419Z
SUMMARY:Basketball (Boys F) - Munster High School
LOCATION:Lowell Senior High School
URL;VALUE=URI:https://www.tricreek.k12.in.us/lhs/calendar/7360680/basketbal
 l-boys-f-munster-high-school
DTSTART:20241210T000000Z
DTEND:20241210T020000Z
END:VEVENT
END:VCALENDAR
