BEGIN:VCALENDAR
VERSION:2.0
PRODID:SchoolNow
CALSCALE:GREGORIAN
BEGIN:VEVENT
UID:8d5b57c4-d9e9-11ef-bc5c-0a58a9feac02
DTSTAMP:20250124T002419Z
SUMMARY:Basketball (Boys F) - Portage High School
LOCATION:Lowell Senior High School
URL;VALUE=URI:https://www.tricreek.k12.in.us/lhs/calendar/7360684/basketbal
 l-boys-f-portage-high-school
DTSTART:20251218T000055Z
DTEND:20251218T020055Z
END:VEVENT
END:VCALENDAR
