BEGIN:VCALENDAR
VERSION:2.0
PRODID:SchoolNow
CALSCALE:GREGORIAN
BEGIN:VEVENT
UID:8d5b58a0-d9e9-11ef-8d54-0a58a9feac02
DTSTAMP:20250124T002419Z
SUMMARY:Basketball (Boys F) - Hebron
LOCATION:Lowell Senior High School
URL;VALUE=URI:https://www.tricreek.k12.in.us/lhs/calendar/7360685/basketbal
 l-boys-f-hebron
DTSTART:20251125T000000Z
DTEND:20251125T020000Z
END:VEVENT
END:VCALENDAR
