BEGIN:VCALENDAR
VERSION:2.0
PRODID:SchoolNow
CALSCALE:GREGORIAN
BEGIN:VEVENT
UID:8d5b5972-d9e9-11ef-8aea-0a58a9feac02
DTSTAMP:20250124T002419Z
SUMMARY:Basketball (Boys F) @ Hanover Central Jr-Sr High School
LOCATION:Hanover Central Jr-Sr High School
URL;VALUE=URI:https://www.tricreek.k12.in.us/lhs/calendar/7360686/basketbal
 l-boys-f-hanover-central-jr-sr-high-school
DTSTART:20250205T233000Z
DTEND:20250206T013000Z
END:VEVENT
END:VCALENDAR
