BEGIN:VCALENDAR
VERSION:2.0
PRODID:SchoolNow
CALSCALE:GREGORIAN
BEGIN:VEVENT
UID:8dc6ba64-d9e9-11ef-a7b6-0a58a9feac02
DTSTAMP:20250124T002420Z
SUMMARY:Basketball (Boys F) @ Highland High School
LOCATION:Highland High School
URL;VALUE=URI:https://www.tricreek.k12.in.us/lhs/calendar/7360687/basketbal
 l-boys-f-highland-high-school
DTSTART:20241203T000000Z
DTEND:20241203T020000Z
END:VEVENT
END:VCALENDAR
