BEGIN:VCALENDAR
VERSION:2.0
PRODID:SchoolNow
CALSCALE:GREGORIAN
BEGIN:VEVENT
UID:8dc6be88-d9e9-11ef-87e9-0a58a9feac02
DTSTAMP:20250124T002420Z
SUMMARY:Basketball (Boys F) @ Illiana Christian High School
LOCATION:Illiana Christian High School
URL;VALUE=URI:https://www.tricreek.k12.in.us/lhs/calendar/7360688/basketbal
 l-boys-f-illiana-christian-high-school
DTSTART:20260122T000000Z
DTEND:20260122T020000Z
END:VEVENT
END:VCALENDAR
