BEGIN:VCALENDAR
VERSION:2.0
PRODID:SchoolNow
CALSCALE:GREGORIAN
BEGIN:VEVENT
UID:8dc6bfe6-d9e9-11ef-b3f1-0a58a9feac02
DTSTAMP:20250124T002420Z
SUMMARY:Basketball (Boys F) - Kankakee Valley High School
LOCATION:Lowell Senior High School
URL;VALUE=URI:https://www.tricreek.k12.in.us/lhs/calendar/7360689/basketbal
 l-boys-f-kankakee-valley-high-school
DTSTART:20250204T000000Z
DTEND:20250204T020000Z
END:VEVENT
END:VCALENDAR
