BEGIN:VCALENDAR
VERSION:2.0
PRODID:SchoolNow
CALSCALE:GREGORIAN
BEGIN:VEVENT
UID:8dc6c11c-d9e9-11ef-945b-0a58a9feac02
DTSTAMP:20250124T002420Z
SUMMARY:CANCELED - Basketball (Boys F) - Lowell Tourney
LOCATION:Lowell Senior High School
URL;VALUE=URI:https://www.tricreek.k12.in.us/lhs/calendar/7360690/canceled-
 basketball-boys-f-lowell-tourney
DTSTART:20250208T150000Z
DTEND:20250208T170000Z
END:VEVENT
END:VCALENDAR
